BEGIN:VCALENDAR
VERSION:2.0
PRODID:-//hacksw/handcal//NONSGML v1.0//EN
CALSCALE:GREGORIAN
BEGIN:VEVENT
LOCATION:Online
DESCRIPTION:Oletko koskaan miettinyt\, mitä todella tapahtuu\, kun SOC havaitsee kyberuhan? Tässä jaksossa asiantuntijamme avaavat\, miten uhkat tunnistetaan\, priorisoidaan ja käsitellään reaaliajassa. Saat konkreettisen katsauksen siihen\, miten automaatio\, asiantuntijatyö ja syvä asiakasymmärrys yhdistyvät turvallistamaan modernia IT-ympäristöä – 24/7.
DTSTART:20250618T060000Z
DTEND:20250618T063000Z
SUMMARY:SOC Behind Closed Doors: Beyond the Alerts
URL;VALUE=URI:https://fi.netnordic.noboxdesign.se/tapahtumia/soc-suljettujen-ovien-takana-halytysten-ulkopuolella/
DTSTAMP:20260423T223128Z
UID:69ea9dc069b49
END:VEVENT
END:VCALENDAR