BEGIN:VCALENDAR
VERSION:2.0
PRODID:-//hacksw/handcal//NONSGML v1.0//EN
CALSCALE:GREGORIAN
BEGIN:VEVENT
LOCATION:Scandic Marina Congress Center
DESCRIPTION:Datacenter Forum Helsinki kokoaa yhteen pohjoismaiset datakeskusalan päättäjät ja asiantuntijat päivän mittaiseen tapahtumaan täynnä ajankohtaisia näkemyksiä\, keskusteluja ja verkostoitumista. Tapaa NetNordic osastolla 12 ja keskustele siitä\, miten turvallinen ja toimintavarma infrastruktuuri rakennetaan käytännössä.
DTSTART:20260423T060000Z
DTEND:20260423T140000Z
SUMMARY:Datacenter Forum
URL;VALUE=URI:https://fi.netnordic.noboxdesign.se/tapahtumia/datacenter-forum/
DTSTAMP:20260424T145204Z
UID:69eb8394e51a7
END:VEVENT
END:VCALENDAR