BEGIN:VCALENDAR
VERSION:2.0
PRODID:-//hacksw/handcal//NONSGML v1.0//EN
CALSCALE:GREGORIAN
BEGIN:VEVENT
LOCATION:Helsinkin Messukeskus - Kongressisiipi
DESCRIPTION:Fortinet Security Day 2026 kokoaa yhteen kyberturvallisuuden ajankohtaisimmat näkemykset\, asiantuntijat ja käytännön opit. NetNordic on mukana tapahtumassa sponsorina\, lavalla ja ständillä – tervetuloa mukaan.
DTSTART:20260603T210000Z
DTEND:20260604T140000Z
SUMMARY:Fortinet Security Day
URL;VALUE=URI:https://fi.netnordic.noboxdesign.se/tapahtumia/fortinet-security-day-2/
DTSTAMP:20260424T145231Z
UID:69eb83af82f37
END:VEVENT
END:VCALENDAR