BEGIN:VCALENDAR
VERSION:2.0
PRODID:-//hacksw/handcal//NONSGML v1.0//EN
CALSCALE:GREGORIAN
BEGIN:VEVENT
LOCATION:Online
DESCRIPTION:On enempi poikkeus kuin sääntö\, että penetraatiotestauksen yhteydessä testaajat eivät pääse puolustusten läpi.  Oleellinen kysymys ei siis ole\, onko murtautuminen mahdollista\, vaan mitä pitää suojata eniten\, mistä hyökkäysreitit löytyvät ja millaisia riskejä ympäristössä todellisuudessa on.  Ja miten tietoturvatestauksesta saadaan kaikki hyöty irti.
DTSTART:20260528T060000Z
DTEND:20260528T070000Z
SUMMARY:CyberTalk 2026: From Assumption to Evidence
URL;VALUE=URI:https://fi.netnordic.noboxdesign.se/tapahtumia/cybertalk-2026/
DTSTAMP:20260423T161529Z
UID:69ea45a17c709
END:VEVENT
END:VCALENDAR